BEGIN:VCALENDAR
VERSION:2.0
PRODID:-//Avalon Rose Skincare - ECPv6.15.20//NONSGML v1.0//EN
CALSCALE:GREGORIAN
METHOD:PUBLISH
X-WR-CALNAME:Avalon Rose Skincare
X-ORIGINAL-URL:https://avalonrosebotanicals.ca
X-WR-CALDESC:Events for Avalon Rose Skincare
REFRESH-INTERVAL;VALUE=DURATION:PT1H
X-Robots-Tag:noindex
X-PUBLISHED-TTL:PT1H
BEGIN:VTIMEZONE
TZID:America/Vancouver
BEGIN:DAYLIGHT
TZOFFSETFROM:-0800
TZOFFSETTO:-0700
TZNAME:PDT
DTSTART:20230312T100000
END:DAYLIGHT
BEGIN:STANDARD
TZOFFSETFROM:-0700
TZOFFSETTO:-0800
TZNAME:PST
DTSTART:20231105T090000
END:STANDARD
BEGIN:DAYLIGHT
TZOFFSETFROM:-0800
TZOFFSETTO:-0700
TZNAME:PDT
DTSTART:20240310T100000
END:DAYLIGHT
BEGIN:STANDARD
TZOFFSETFROM:-0700
TZOFFSETTO:-0800
TZNAME:PST
DTSTART:20241103T090000
END:STANDARD
BEGIN:DAYLIGHT
TZOFFSETFROM:-0800
TZOFFSETTO:-0700
TZNAME:PDT
DTSTART:20250309T100000
END:DAYLIGHT
BEGIN:STANDARD
TZOFFSETFROM:-0700
TZOFFSETTO:-0800
TZNAME:PST
DTSTART:20251102T090000
END:STANDARD
END:VTIMEZONE
BEGIN:VEVENT
DTSTART;VALUE=DATE:20241206
DTEND;VALUE=DATE:20241209
DTSTAMP:20260424T132547
CREATED:20241025T011039Z
LAST-MODIFIED:20251016T191440Z
UID:10000001-1733443200-1733702399@avalonrosebotanicals.ca
SUMMARY:Craft Culture Holiday Market
DESCRIPTION:Step Into the Season at Kelowna’s Craft Culture Holiday Market\nThe holidays are calling\, and Kelowna’s Craft Culture Holiday Market is your destination for festive fun\, thoughtful holiday shopping\, and one-of-a-kind treasures. From Friday\, December 6 to Sunday\, December 8\, 2024\, Prospera Place will transform into a vibrant marketplace showcasing the very best in local craftsmanship. With over 200 artisan vendors\, live entertainment\, and a warm holiday ambiance\, this event is the perfect way to celebrate the season. \n\nWhy You’ll Love the Craft Culture Holiday Market\n\nSupport Local Artisans: Celebrate the Okanagan’s creative community by shopping small. Every purchase directly supports local makers and small businesses\, helping to keep the spirit of craftsmanship alive.\nShop Unique\, Handcrafted Gifts: Find one-of-a-kind gifts that stand out\, from beautifully crafted jewelry to artisan home décor and small-batch skincare. You’ll discover pieces made with passion and precision—perfect for your holiday list.\nA Festive Atmosphere: Step into the holiday spirit as you explore Kelowna’s largest holiday market.\n\n\nHighlights of the Market\n\nOver 200 Vendors: This is Kelowna’s premier showcase for handcrafted goods. Discover artisan jewelry\, home décor\, unique ornaments\, gourmet treats\, and more.The Craft Culture Holiday Market makes holiday shopping meaningful by curating unique\, local\, and sustainable gifts.\nConvenient Holiday Shopping: Cross off your holiday gift list in one spot while supporting local businesses. With general admission tickets priced affordably\, you can visit all weekend long to explore everything on offer.\n\n\nEvent Details\nDates and Times \n\nFriday\, December 6: 1:00 PM – 7:00 PM\nSaturday\, December 7: 10:00 AM – 5:00 PM\nSunday\, December 8: 10:00 AM – 5:00 PM\n\nLocation\nProspera Place\n1223 Water Street\, Kelowna\, BC \nAdmission \n\nGeneral Admission: $7\nWeekend Pass: $10\nChildren under 15: Free (no ticket required)\nTickets are available online and at the door (debit or cash only).\n\nSave the date\, gather your loved ones\, and come celebrate the spirit of the season.\nMake it unforgettable your holiday season unforgettable by celebrating the best of shopping small and supporting your local creative community. \nStay inspired—follow Craft Culture on social media or visit www.craftculture.ca for updates\, giveaways\, sneak peeks of vendors\, and exclusive insights into this year’s event.
URL:https://avalonrosebotanicals.ca/event/craft-culture-holiday-christmas-artisan-market-2024/
LOCATION:Prospera Place Arena\, 1223 Water St\, Kelowna\, BC\, V1Y 9V1\, Canada
CATEGORIES:Artisan Market,Holiday Markets
ATTACH;FMTTYPE=image/jpeg:https://avalonrosebotanicals.ca/wp-content/uploads/Craft-Culture-@craftcultureshows-•-Prospera-Holiday-Market-2024.jpg
ORGANIZER;CN="Craft Culture":MAILTO:info@craftculture.ca
END:VEVENT
END:VCALENDAR