BEGIN:VCALENDAR
VERSION:2.0
PRODID:-//Avalon Rose Skincare - ECPv6.15.20//NONSGML v1.0//EN
CALSCALE:GREGORIAN
METHOD:PUBLISH
X-WR-CALNAME:Avalon Rose Skincare
X-ORIGINAL-URL:https://avalonrosebotanicals.ca
X-WR-CALDESC:Events for Avalon Rose Skincare
REFRESH-INTERVAL;VALUE=DURATION:PT1H
X-Robots-Tag:noindex
X-PUBLISHED-TTL:PT1H
BEGIN:VTIMEZONE
TZID:America/Vancouver
BEGIN:DAYLIGHT
TZOFFSETFROM:-0800
TZOFFSETTO:-0700
TZNAME:PDT
DTSTART:20240310T100000
END:DAYLIGHT
BEGIN:STANDARD
TZOFFSETFROM:-0700
TZOFFSETTO:-0800
TZNAME:PST
DTSTART:20241103T090000
END:STANDARD
BEGIN:DAYLIGHT
TZOFFSETFROM:-0800
TZOFFSETTO:-0700
TZNAME:PDT
DTSTART:20250309T100000
END:DAYLIGHT
BEGIN:STANDARD
TZOFFSETFROM:-0700
TZOFFSETTO:-0800
TZNAME:PST
DTSTART:20251102T090000
END:STANDARD
BEGIN:DAYLIGHT
TZOFFSETFROM:-0800
TZOFFSETTO:-0700
TZNAME:PDT
DTSTART:20260308T100000
END:DAYLIGHT
BEGIN:STANDARD
TZOFFSETFROM:-0700
TZOFFSETTO:-0800
TZNAME:PST
DTSTART:20261101T090000
END:STANDARD
END:VTIMEZONE
BEGIN:VEVENT
DTSTART;TZID=America/Vancouver:20250216T110000
DTEND;TZID=America/Vancouver:20250216T160000
DTSTAMP:20260424T102434
CREATED:20241205T020446Z
LAST-MODIFIED:20251016T191402Z
UID:10000009-1739703600-1739721600@avalonrosebotanicals.ca
SUMMARY:The Glow + Flow Beauty Show
DESCRIPTION:Discover Radiance at the Glow + Flow Show 2025 with Avalon Rose Botanicals\nGet ready\, Kelowna! The beauty event of the year is just around the corner\, and we at Avalon Rose Botanicals couldn’t be more excited to be part of this incredible day. Join us at the first-ever Glow + Flow Show\, where the Okanagan’s best in beauty come together to celebrate innovation\, artistry\, and self-care. \nWhen and Where\n? Sunday\, February 16\, 2025\n? 11:00 AM – 4:00 PM\n? The Laurel Packing House\, Kelowna\, BC \nThis event will be buzzing with inspiration as businesses from across the beauty industry showcase their expertise\, offering everything from makeup tips to haircare secrets\, skincare innovations\, and even laser treatments. \n\nWhat to Expect at Our Booth\nAt Avalon Rose Botanicals\, we’re passionate about natural\, holistic skincare that nurtures your skin while respecting the planet. Stop by our booth to: \n\nExplore our signature collection of botanical-based skincare essentials.\nLearn glow-enhancing rituals that bring out your natural radiance.\nDiscover how clean\, eco-conscious beauty can elevate your self-care routine.\nChat with us about your skincare needs and find the perfect products tailored to you.\n\nWhether you’re new to natural beauty solutions or a seasoned enthusiast\, this is your chance to experience the transformative power of plant-powered ingredients firsthand. \n\nWhy You Should Attend\n\nExperience the Best in Beauty: From expert demonstrations to discovering local innovators\, the Glow + Flow Show is your all-access pass to the latest in beauty.\nConnect with the Community: Meet like-minded individuals and support businesses that prioritize quality and care.\nIndulge in Self-Care: Treat yourself to an inspiring day designed to help you look and feel your best.\n\n\nSave the Date\nMark your calendar for February 16\, 2025\, and join us for a day dedicated to celebrating beauty in all its forms. Whether you’re coming to shop\, learn\, or connect\, the Glow + Flow Show promises to be an unforgettable experience. \nWe can’t wait to meet you and share the magic of Avalon Rose Botanicals. See you at the Glow + Flow Show—your journey to radiant\, healthy skin starts here! \nFor event details and updates\, follow us on social media or visit www.avalonrosebotanicals.ca. \n  \nLet’s glow and flow together!
URL:https://avalonrosebotanicals.ca/event/kelowna-glow-flow-beauty-show-2025/
LOCATION:The Laurel Packing House\, 1304 Ellis St\, Kelowna\, BC\, V1Y 1Z9\, Canada
CATEGORIES:Artisan Market
ATTACH;FMTTYPE=image/jpeg:https://avalonrosebotanicals.ca/wp-content/uploads/Kelownas-Glow-Flow-Show-2025.jpg
ORGANIZER;CN="RedScope Media":MAILTO:info@redscopemedia.com
END:VEVENT
END:VCALENDAR