BEGIN:VCALENDAR
VERSION:2.0
PRODID:-//Avalon Rose Skincare - ECPv6.15.20//NONSGML v1.0//EN
CALSCALE:GREGORIAN
METHOD:PUBLISH
X-ORIGINAL-URL:https://avalonrosebotanicals.ca
X-WR-CALDESC:Events for Avalon Rose Skincare
REFRESH-INTERVAL;VALUE=DURATION:PT1H
X-Robots-Tag:noindex
X-PUBLISHED-TTL:PT1H
BEGIN:VTIMEZONE
TZID:America/Vancouver
BEGIN:DAYLIGHT
TZOFFSETFROM:-0800
TZOFFSETTO:-0700
TZNAME:PDT
DTSTART:20240310T100000
END:DAYLIGHT
BEGIN:STANDARD
TZOFFSETFROM:-0700
TZOFFSETTO:-0800
TZNAME:PST
DTSTART:20241103T090000
END:STANDARD
BEGIN:DAYLIGHT
TZOFFSETFROM:-0800
TZOFFSETTO:-0700
TZNAME:PDT
DTSTART:20250309T100000
END:DAYLIGHT
BEGIN:STANDARD
TZOFFSETFROM:-0700
TZOFFSETTO:-0800
TZNAME:PST
DTSTART:20251102T090000
END:STANDARD
BEGIN:DAYLIGHT
TZOFFSETFROM:-0800
TZOFFSETTO:-0700
TZNAME:PDT
DTSTART:20260308T100000
END:DAYLIGHT
BEGIN:STANDARD
TZOFFSETFROM:-0700
TZOFFSETTO:-0800
TZNAME:PST
DTSTART:20261101T090000
END:STANDARD
END:VTIMEZONE
BEGIN:VEVENT
DTSTART;VALUE=DATE:20250405
DTEND;VALUE=DATE:20250407
DTSTAMP:20260424T071426
CREATED:20250215T022207Z
LAST-MODIFIED:20251016T191401Z
UID:10000011-1743811200-1743983999@avalonrosebotanicals.ca
SUMMARY:Craft Culture Kelowna Spring Market
DESCRIPTION:Experience the Best of Local Artisans at the Craft Culture Kelowna Spring Market 2025!\nSpring is in the air\, and so is the excitement for one of Kelowna’s most anticipated artisan markets! Craft Culture Kelowna Spring Market 2025 is back\, bringing together the region’s most talented makers\, creatives\, and small businesses for a weekend filled with handcrafted treasures\, fresh finds\, and community connection. \n? Mark Your Calendar:? When?\nSaturday April 5 – 10am to 5pm\nSunday April 6 – 10am to 4pm? Where?\nLocated at the Kelowna Curling Club\n551 Recreation Ave\, Kelowna\, BC V1Y 7V5. \nAt Avalon Rose Botanicals\, we’re thrilled to be part of this vibrant event\, where we’ll be sharing our handcrafted\, plant-powered skincare with fellow lovers of natural beauty. Whether you’re looking for fresh spring skincare essentials\, nourishing botanical serums\, or the perfect self-care gift\, we’ve got something special waiting for you! \nWhat to Expect at Our Booth:\n? Luxurious\, botanical-rich skincare – Crafted with pure\, plant-based ingredients to nourish and restore your skin naturally.? Spring-inspired self-care essentials – Find fresh\, floral-infused formulas that celebrate the season.?? Eco-conscious beauty – Sustainable packaging and clean beauty products that are kind to both your skin and the planet. \nThe Craft Culture Spring Market is the perfect place to shop small\, support local artisans\, and discover unique\, high-quality handmade goods. Whether you’re searching for skincare that aligns with your natural beauty philosophy or thoughtful gifts for loved ones\, we can’t wait to connect with you and share our passion for holistic skincare. \n? Come say hello\, test out our products\, and find your new skincare favorites! We’d love to meet you and help you build your perfect spring beauty ritual. \n? See you at the Craft Culture Kelowna Spring Market 2025! ?
URL:https://avalonrosebotanicals.ca/event/craft-culture-spring-artisan-market-2025/
LOCATION:Kelowna Curling Club\, 551 Recreation Ave\, Kelowna\, BC\, V1Y 7V5
CATEGORIES:Artisan Market
ATTACH;FMTTYPE=image/jpeg:https://avalonrosebotanicals.ca/wp-content/uploads/CC-Spring2024-Kelowna_Instagram-1-1.jpg
ORGANIZER;CN="Craft Culture":MAILTO:info@craftculture.ca
END:VEVENT
END:VCALENDAR