BEGIN:VCALENDAR
VERSION:2.0
PRODID:-//Avalon Rose Skincare - ECPv6.15.20//NONSGML v1.0//EN
CALSCALE:GREGORIAN
METHOD:PUBLISH
X-ORIGINAL-URL:https://avalonrosebotanicals.ca
X-WR-CALDESC:Events for Avalon Rose Skincare
REFRESH-INTERVAL;VALUE=DURATION:PT1H
X-Robots-Tag:noindex
X-PUBLISHED-TTL:PT1H
BEGIN:VTIMEZONE
TZID:America/Vancouver
BEGIN:DAYLIGHT
TZOFFSETFROM:-0800
TZOFFSETTO:-0700
TZNAME:PDT
DTSTART:20240310T100000
END:DAYLIGHT
BEGIN:STANDARD
TZOFFSETFROM:-0700
TZOFFSETTO:-0800
TZNAME:PST
DTSTART:20241103T090000
END:STANDARD
BEGIN:DAYLIGHT
TZOFFSETFROM:-0800
TZOFFSETTO:-0700
TZNAME:PDT
DTSTART:20250309T100000
END:DAYLIGHT
BEGIN:STANDARD
TZOFFSETFROM:-0700
TZOFFSETTO:-0800
TZNAME:PST
DTSTART:20251102T090000
END:STANDARD
BEGIN:DAYLIGHT
TZOFFSETFROM:-0800
TZOFFSETTO:-0700
TZNAME:PDT
DTSTART:20260308T100000
END:DAYLIGHT
BEGIN:STANDARD
TZOFFSETFROM:-0700
TZOFFSETTO:-0800
TZNAME:PST
DTSTART:20261101T090000
END:STANDARD
END:VTIMEZONE
BEGIN:VEVENT
DTSTART;TZID=America/Vancouver:20251113T150000
DTEND;TZID=America/Vancouver:20251114T000000
DTSTAMP:20260423T204348
CREATED:20251016T185707Z
LAST-MODIFIED:20251016T203731Z
UID:10000018-1763046000-1763078400@avalonrosebotanicals.ca
SUMMARY:Beauty + Wellness Conference at Sandhill Winery in Kelowna
DESCRIPTION:Where Beauty Meets Purpose\nGet ready for a weekend of transformation\, education\, and connection. The Beauty + Wellness Conference returns to Sandhill Winery in Kelowna for two unforgettable days — November 13 & 14\, 2025 — bringing together the best in skincare\, wellness\, and self-development. \nWith 3 stages\, 20+ workshops and panels\, and over 15 incredible vendors\, this event is designed to inspire\, educate\, and empower. Whether you’re a beauty professional\, holistic practitioner\, entrepreneur\, or simply passionate about living well — this is where your next level begins. \nWhat to Expect\n\nCareer Expansion & Inspiration: Learn from experts who’ve turned passion into purpose. Expect practical business tips\, personal growth sessions\, and insight into emerging beauty and wellness trends.\nHands-On Workshops & Masterclasses: From skincare formulation to branding\, social media strategy\, and energy alignment — there’s something for every stage of your journey.\nCommunity & Connection: Network with like-minded professionals and brands in an intimate\, inspiring space surrounded by the beautiful Sandhill Winery atmosphere.\nLocal Vendors: Explore a curated marketplace of artisan products\, clean beauty lines\, and holistic wellness offerings from local and regional businesses (including Avalon Rose Botanicals!).\n\nWhen & Where\nWhen: November 13–14\, 2025 at 3pmWhere: Sandhill Winery\, 1125 Richter St\, Kelowna\, BCTickets: Get Tickets on Eventbrite \nThere are two ticket options — both full access for 2 days: \n\n\nVIP Pass: Includes priority seating\, premium swag bag\, and exclusive networking access. (Only 5 left!) \n\n\nGold Pass: Full access to all stages and workshops. (Only 35 remaining!) \n\n\n\nIf you can’t attend one day\, you can pass your ticket to a friend at no extra cost. One-day tickets are not available. \n\nWhy You Shouldn’t Wait\nThis event is sure to sell out — and due to venue capacity\, once it’s full\, it’s full. No exceptions.Vendor spaces are already completely booked\, and tickets are going fast. \nSo if you’ve been craving community\, creativity\, and clarity about your next chapter — this is your sign. \nAt Avalon Rose Botanicals\, we’re so excited to be part of this empowering community of makers\, mentors\, and beauty enthusiasts. Come say hello\, explore our plant-active skincare line\, and discover how natural ingredients can transform not only your skin — but your sense of self-care. \nWe truly hope you’ll join us. It’s going to be two magical\, memorable days.
URL:https://avalonrosebotanicals.ca/event/beauty-wellness-conference-kelowna-2025/
LOCATION:Sandhill Winery\, 1125 Richter St\, Kelowna\, BC\, V1Y 2K6\, Canada
CATEGORIES:Artisan Market,Beauty Conferences & Expos
ATTACH;FMTTYPE=image/webp:https://avalonrosebotanicals.ca/wp-content/uploads/beauty-wellness-expo-conference-chic-experience-2025.webp
ORGANIZER;CN="The Chic Experience":MAILTO:amy@thechicexperience.ca
END:VEVENT
END:VCALENDAR