BEGIN:VCALENDAR
VERSION:2.0
PRODID:-//Avalon Rose Skincare - ECPv6.15.20//NONSGML v1.0//EN
CALSCALE:GREGORIAN
METHOD:PUBLISH
X-ORIGINAL-URL:https://avalonrosebotanicals.ca
X-WR-CALDESC:Events for Avalon Rose Skincare
REFRESH-INTERVAL;VALUE=DURATION:PT1H
X-Robots-Tag:noindex
X-PUBLISHED-TTL:PT1H
BEGIN:VTIMEZONE
TZID:America/Vancouver
BEGIN:DAYLIGHT
TZOFFSETFROM:-0800
TZOFFSETTO:-0700
TZNAME:PDT
DTSTART:20250309T100000
END:DAYLIGHT
BEGIN:STANDARD
TZOFFSETFROM:-0700
TZOFFSETTO:-0800
TZNAME:PST
DTSTART:20251102T090000
END:STANDARD
BEGIN:DAYLIGHT
TZOFFSETFROM:-0800
TZOFFSETTO:-0700
TZNAME:PDT
DTSTART:20260308T100000
END:DAYLIGHT
BEGIN:STANDARD
TZOFFSETFROM:-0700
TZOFFSETTO:-0800
TZNAME:PST
DTSTART:20261101T090000
END:STANDARD
BEGIN:DAYLIGHT
TZOFFSETFROM:-0800
TZOFFSETTO:-0700
TZNAME:PDT
DTSTART:20270314T100000
END:DAYLIGHT
BEGIN:STANDARD
TZOFFSETFROM:-0700
TZOFFSETTO:-0800
TZNAME:PST
DTSTART:20271107T090000
END:STANDARD
END:VTIMEZONE
BEGIN:VEVENT
DTSTART;VALUE=DATE:20260411
DTEND;VALUE=DATE:20260413
DTSTAMP:20260423T063630
CREATED:20260408T225536Z
LAST-MODIFIED:20260409T000336Z
UID:10000021-1775865600-1776038399@avalonrosebotanicals.ca
SUMMARY:Craft Culture Kelowna Spring Market
DESCRIPTION:Spring is in Full Bloom\nat the Craft Culture Spring Market in Kelowna!\nSpring in the Okanagan is here. Full and vibrant—everything green\, blooming\, and coming back to life in a way that feels uplifting and hopeful. As always\, the annual Craft Culture Spring Artisan Market captures that energy beautifully\, bringing together a curated collection of Canadian makers in one vibrant\, community-driven space. \nThe Rise of Local: Small Shifts\, Lasting Impact\nSet against the backdrop of early spring—and in a moment where global supply chains and rising tariffs have quietly reshaped how and where we shop—this market feels especially meaningful. More than ever\, choosing Canadian-made and supporting local small businesses isn’t just a trend—it’s a values-driven\, intentional choice that feels personal and close to home. \nAs everyday essentials like groceries continue to rise\, something interesting has happened: the gap between mass-produced goods and thoughtfully made\, local products has narrowed. Artisan-made skincare\, home goods\, and gifts no longer feel like out-of-reach luxuries—they’re accessible\, purposeful investments that directly support our local economy. \nThis weekend market invites you to slow down\, explore thoughtfully made goods\, and reconnect with the artistry behind the products we bring into our daily lives—while supporting the makers and shaping a more resilient\, local economy. \nMark Your Calendar\nWhen\nSaturday April 11 – 10am to 5pm\nSunday April 12 – 10am to 4pm\nWhere\nLocated at the Kelowna Curling Club\n551 Recreation Ave\, Kelowna\, BC V1Y 7V5. \nAt Avalon Rose Botanicals\, we’re thrilled to be part of this vibrant event\, where we’ll be sharing our handcrafted\, plant-powered skincare with fellow lovers of natural beauty. Whether you’re looking for fresh spring skincare essentials\, nourishing botanical serums\, or the perfect self-care gift\, we’ve got something special waiting for you! \nWhat to Expect at Our Booth\nAt Avalon Rose Botanicals\, markets have always been about more than just selling products—they’re about connection\, conversation\, and bringing skincare to life in a tangible way. \nAt this spring market\, you’ll find us offering: \n\nOur plant-active skincare collection\, including customer-favourite serums and cleansers\nAromatherapy mists and botanical perfumes designed to ground and uplift\nThoughtfully curated gift sets—perfect for Mother’s Day and seasonal gifting\nA chance to experience textures\, scent profiles\, and formulations in person\n\nWhether you’re searching for skincare that aligns with your natural beauty philosophy or thoughtful gifts for loved ones\, we love to answer questions\, guide you through your routine\, and help you find products that genuinely work for your skin—without the overwhelm. Come say hello\, test out our products\, and find your new skincare favorites! \nA Weekend of Local Discovery: Shop\, Stroll\, and Stay Awhile\nThere’s something meaningful about meeting the hands behind the products you use every day—hearing the story\, understanding the intention\, and experiencing the craftsmanship firsthand. The Craft Culture Spring Market offers exactly that: a space to discover\, connect\, and bring a little more beauty into your everyday. \nWe’d love to see you there.
URL:https://avalonrosebotanicals.ca/event/craft-culture-kelowna-spring-artisan-market-2026/
LOCATION:Kelowna Curling Club\, 551 Recreation Ave\, Kelowna\, BC\, V1Y 7V5
CATEGORIES:Artisan Market
ATTACH;FMTTYPE=image/jpeg:https://avalonrosebotanicals.ca/wp-content/uploads/Craft-Culture-Spring-Market-April-11-12-2026.jpg
ORGANIZER;CN="Craft Culture":MAILTO:info@craftculture.ca
END:VEVENT
END:VCALENDAR