BEGIN:VCALENDAR
VERSION:2.0
PRODID:-//Avalon Rose Skincare - ECPv6.15.20//NONSGML v1.0//EN
CALSCALE:GREGORIAN
METHOD:PUBLISH
X-ORIGINAL-URL:https://avalonrosebotanicals.ca
X-WR-CALDESC:Events for Avalon Rose Skincare
REFRESH-INTERVAL;VALUE=DURATION:PT1H
X-Robots-Tag:noindex
X-PUBLISHED-TTL:PT1H
BEGIN:VTIMEZONE
TZID:America/Vancouver
BEGIN:DAYLIGHT
TZOFFSETFROM:-0800
TZOFFSETTO:-0700
TZNAME:PDT
DTSTART:20250309T100000
END:DAYLIGHT
BEGIN:STANDARD
TZOFFSETFROM:-0700
TZOFFSETTO:-0800
TZNAME:PST
DTSTART:20251102T090000
END:STANDARD
BEGIN:DAYLIGHT
TZOFFSETFROM:-0800
TZOFFSETTO:-0700
TZNAME:PDT
DTSTART:20260308T100000
END:DAYLIGHT
BEGIN:STANDARD
TZOFFSETFROM:-0700
TZOFFSETTO:-0800
TZNAME:PST
DTSTART:20261101T090000
END:STANDARD
BEGIN:DAYLIGHT
TZOFFSETFROM:-0800
TZOFFSETTO:-0700
TZNAME:PDT
DTSTART:20270314T100000
END:DAYLIGHT
BEGIN:STANDARD
TZOFFSETFROM:-0700
TZOFFSETTO:-0800
TZNAME:PST
DTSTART:20271107T090000
END:STANDARD
END:VTIMEZONE
BEGIN:VEVENT
DTSTART;VALUE=DATE:20260425
DTEND;VALUE=DATE:20260427
DTSTAMP:20260423T040017
CREATED:20260409T003506Z
LAST-MODIFIED:20260409T013603Z
UID:10000022-1777075200-1777247999@avalonrosebotanicals.ca
SUMMARY:Craft Culture Penticton Spring Market
DESCRIPTION:Local Comes to Life This Spring\nat the Craft Culture Spring Market in Penticton!\nThis year\, Spring in the South Okanagan feels like a fresh start—everything waking up\, stretching toward the sun\, and coming back to life. It’s a season that brings a sense of renewal\, optimism\, and connection\, and the Craft Culture Penticton Spring Market 2026 captures that energy in the most tangible way. \nWhere Renewal\, Connection\, and Community Take Root\nThis isn’t just a market—it’s a reflection of what so many of us are leaning into right now. Choosing Canadian-made\, supporting local small businesses\, and reconnecting with the people behind what we buy. In a time where rising costs and global shifts have reshaped how we shop\, turning toward local feels both grounding and empowering. \nAnd as everyday essentials continue to climb in price\, something has shifted: the price gap between mass-produced goods and thoughtfully made\, local products has narrowed. What once felt like a splurge now feels like a smart\, meaningful choice—one that supports quality\, community\, and local economy for a more connected way of living. \nWhat to Expect at the Penticton Spring Market\nHosted by Craft Culture\, this seasonal market brings together a thoughtfully curated lineup of Canadian makers\, all under one roof. \nInside\, you’ll find: \n\nA diverse mix of local artisans across skincare\, wellness\, home\, fashion\, and more\nSmall-batch\, handcrafted goods made with care and intention\nA welcoming\, community-driven atmosphere where you can meet the makers behind the brands\nFresh inspiration for spring—from everyday essentials to meaningful gifts\n\nThis is the kind of space where you can take your time—discovering new favourites\, asking questions\, and experiencing products in a way that simply isn’t possible online. \nAvalon Rose Botanicals at the Market\nAt Avalon Rose Botanicals\, markets are where connection happens. We’re always here for real conversations about skincare—helping you simplify your routine\, understand what your skin actually needs\, and find products you’ll genuinely use and love. \nWe’ll be bringing: \n\nOur plant-active skincare line\, including hydration\, bio-retinol\, and antioxidant essentials\nBotanical perfumes and aromatherapy mists designed to support mood\, ritual\, and daily wellbeing\nCurated gift sets—perfect for Mother’s Day and seasonal transitions\nA chance to experience everything in person—from texture to scent to how products work together\n\nEvent Details\nWhen\nSaturday April 25 – 10am to 5pm\nSunday April 26 – 10am to 4pm\nWhere\nPentiction Trade and Convention Centre\n273 Power St\, Penticton\, BC V2A 7K9. \nA Weekend to Reconnect with What Matters\nThere’s something powerful about choosing local—about knowing where your products come from\, who made them\, and what they stand for. \nThe Craft Culture Penticton Spring Market 2026 is an invitation to step into that connection. To shop with intention\, support your community\, and bring home pieces that feel aligned with how you want to live. \nWe’d love to see you there.
URL:https://avalonrosebotanicals.ca/event/craft-culture-penticton-spring-artisan-market-2026/
LOCATION:Penticton Trade & Convention Centre\, 273 Power St\, Penticton\, BC\, V2A 7K9\, Canada
CATEGORIES:Artisan Market
ATTACH;FMTTYPE=image/jpeg:https://avalonrosebotanicals.ca/wp-content/uploads/Craft-Culture-@craftcultureshows-Penticton-Spring-2026.jpeg
ORGANIZER;CN="Craft Culture":MAILTO:info@craftculture.ca
END:VEVENT
BEGIN:VEVENT
DTSTART;VALUE=DATE:20260605
DTEND;VALUE=DATE:20260608
DTSTAMP:20260423T040017
CREATED:20260409T013134Z
LAST-MODIFIED:20260409T014133Z
UID:10000023-1780617600-1780876799@avalonrosebotanicals.ca
SUMMARY:Creative Chaos Craft Festival 2026
DESCRIPTION:Creativity Comes Alive This Summer\nat the Creative Chaos Craft Festival in Vernon\, BC\nThere’s something unmistakable about early June in the Okanagan. The air feels lighter\, the days stretch longer\, and creativity seems to spill out into every corner of the community. This year\, that energy gathers in full force at the Creative Chaos Craft Festival 2026—a beloved tradition that invites you to step into a world of artistry\, connection\, and inspired living. \nSet in the heart of the North Okanagan\, this iconic festival transforms a weekend into something far more meaningful: a celebration of makers\, stories\, and the beauty of creating with intention. \nExperience Western Canada’s Largest Summer Craft Festival\nNow in its 51st year\, the Creative Chaos Craft Festival has become a cornerstone of the Canadian artisan scene—and for good reason. \nHeld across two expansive buildings at Kal Tire Place\, the festival brings together over 200 talented artisans from across British Columbia and Canada. Each booth offers something distinct—thoughtfully made goods\, carefully honed skills\, and the kind of craftsmanship you simply won’t find anywhere else. \nExpect to wander through: \n\nA curated mix of handmade goods—from skincare and textiles to ceramics and jewelry\nLive entertainment and a lively festival atmosphere that carries throughout the weekend\nA vibrant food fair\, offering local flavors to enjoy as you explore\nInteractive experiences and opportunities to connect directly with the makers behind the products\n\nAnd for those who love a little added excitement\, keep an ear tuned to Beach Radio 107.5 and The Ranch 105.7 for chances to win Chaos Cash throughout the event. \n\nAvalon Rose Botanicals at Creative Chaos\nWe’re so excited to be part of this year’s Creative Chaos—bringing a collection designed to meet you where you are\, and elevate your everyday rituals. \nAt our booth\, you’ll find: \n\nPlant-active skincare essentials designed for real results—simple\, effective\, and beautifully layered\nAromatherapy mists and botanical perfumes to ground\, uplift\, and restore\nThoughtful gift sets—perfect for summer gatherings\, self-care\, or meaningful gifting\nA chance to experience textures\, scents\, and formulations firsthand\, and ask questions about building a routine that truly works\n\nOur philosophy is simple: the best skincare is the one you actually use. That means formulas that feel good\, fit into your life\, and support your skin’s natural rhythm—without overwhelm. \nEvent Details\nWhen \n\nFriday\, June 5 — 10:00 AM – 8:00 PM\nSaturday\, June 6 — 10:00 AM – 7:00 PM\nSunday\, June 7 — 10:00 AM – 4:00 PM\n\nWhereKal Tire Place3445 43rd Ave\, Vernon\, BC V1T 6M3 \nA Weekend to Rediscover Local\, Handmade\, and Meaningful\nCreative Chaos isn’t just a market—it’s a reminder of what happens when creativity is nurtured and shared. It’s where conversations replace transactions\, where every purchase carries a story\, and where supporting local feels both joyful and deeply connected. \nIf you’re looking to spend a weekend surrounded by beauty\, craftsmanship\, and community\, this is where you’ll want to be. \nWe’ll be there—ready to connect\, share\, and help you discover products you’ll reach for every single day.
URL:https://avalonrosebotanicals.ca/event/creative-chaos-craft-artisan-market-vernon-2026/
LOCATION:Kal Tire Place\, 3445 43rd Ave\, Vernon\, BC\, V1T 6M3\, Canada
CATEGORIES:Artisan Market
ATTACH;FMTTYPE=image/jpeg:https://avalonrosebotanicals.ca/wp-content/uploads/Creative-Chaos-Craft-Fair-June-2026-scaled.jpg
ORGANIZER;CN="Creative Chaos Society":MAILTO:info@creativechaoscrafts.com
END:VEVENT
END:VCALENDAR