BEGIN:VCALENDAR
VERSION:2.0
PRODID:-//Avalon Rose Skincare - ECPv6.15.20//NONSGML v1.0//EN
CALSCALE:GREGORIAN
METHOD:PUBLISH
X-WR-CALNAME:Avalon Rose Skincare
X-ORIGINAL-URL:https://avalonrosebotanicals.ca
X-WR-CALDESC:Events for Avalon Rose Skincare
REFRESH-INTERVAL;VALUE=DURATION:PT1H
X-Robots-Tag:noindex
X-PUBLISHED-TTL:PT1H
BEGIN:VTIMEZONE
TZID:America/Vancouver
BEGIN:DAYLIGHT
TZOFFSETFROM:-0800
TZOFFSETTO:-0700
TZNAME:PDT
DTSTART:20230312T100000
END:DAYLIGHT
BEGIN:STANDARD
TZOFFSETFROM:-0700
TZOFFSETTO:-0800
TZNAME:PST
DTSTART:20231105T090000
END:STANDARD
BEGIN:DAYLIGHT
TZOFFSETFROM:-0800
TZOFFSETTO:-0700
TZNAME:PDT
DTSTART:20240310T100000
END:DAYLIGHT
BEGIN:STANDARD
TZOFFSETFROM:-0700
TZOFFSETTO:-0800
TZNAME:PST
DTSTART:20241103T090000
END:STANDARD
BEGIN:DAYLIGHT
TZOFFSETFROM:-0800
TZOFFSETTO:-0700
TZNAME:PDT
DTSTART:20250309T100000
END:DAYLIGHT
BEGIN:STANDARD
TZOFFSETFROM:-0700
TZOFFSETTO:-0800
TZNAME:PST
DTSTART:20251102T090000
END:STANDARD
END:VTIMEZONE
BEGIN:VEVENT
DTSTART;TZID=America/Vancouver:20241027T100000
DTEND;TZID=America/Vancouver:20241027T160000
DTSTAMP:20260424T145931
CREATED:20241025T015130Z
LAST-MODIFIED:20251016T191407Z
UID:10000003-1730023200-1730044800@avalonrosebotanicals.ca
SUMMARY:The Artful Hand Sanctuary Fair
DESCRIPTION:A welcoming community event with 50+ local artisans\, holistic service providers\, healers\, and psychic/tarot readers. There will be something for everyone and the space for everyone truly be themselves\, and feel at home.\n\n\nExplore the holistic market\, as well as a wide range of creative talent\, including local artisans\, makers of delicious foods\, metaphysical services\, and harmonious live entertainment.\n\n\nSunday\, October 27\, 2024 – 10am-4pm
URL:https://avalonrosebotanicals.ca/event/the-artful-hand-sanctuary-fair-october-27-2024/
LOCATION:The Laurel Packing House\, 1304 Ellis St\, Kelowna\, BC\, V1Y 1Z9\, Canada
CATEGORIES:Artisan Market
ATTACH;FMTTYPE=image/jpeg:https://avalonrosebotanicals.ca/wp-content/uploads/The-Artful-Hand-Sanctuary-Fair-Oct-27-2024.jpg
ORGANIZER;CN="The Artful Hand":MAILTO:Theartfulhandstore@gmail.com
END:VEVENT
END:VCALENDAR