BEGIN:VCALENDAR
VERSION:2.0
PRODID:-//Avalon Rose Skincare - ECPv6.15.20//NONSGML v1.0//EN
CALSCALE:GREGORIAN
METHOD:PUBLISH
X-WR-CALNAME:Avalon Rose Skincare
X-ORIGINAL-URL:https://avalonrosebotanicals.ca
X-WR-CALDESC:Events for Avalon Rose Skincare
REFRESH-INTERVAL;VALUE=DURATION:PT1H
X-Robots-Tag:noindex
X-PUBLISHED-TTL:PT1H
BEGIN:VTIMEZONE
TZID:America/Vancouver
BEGIN:DAYLIGHT
TZOFFSETFROM:-0800
TZOFFSETTO:-0700
TZNAME:PDT
DTSTART:20230312T100000
END:DAYLIGHT
BEGIN:STANDARD
TZOFFSETFROM:-0700
TZOFFSETTO:-0800
TZNAME:PST
DTSTART:20231105T090000
END:STANDARD
BEGIN:DAYLIGHT
TZOFFSETFROM:-0800
TZOFFSETTO:-0700
TZNAME:PDT
DTSTART:20240310T100000
END:DAYLIGHT
BEGIN:STANDARD
TZOFFSETFROM:-0700
TZOFFSETTO:-0800
TZNAME:PST
DTSTART:20241103T090000
END:STANDARD
BEGIN:DAYLIGHT
TZOFFSETFROM:-0800
TZOFFSETTO:-0700
TZNAME:PDT
DTSTART:20250309T100000
END:DAYLIGHT
BEGIN:STANDARD
TZOFFSETFROM:-0700
TZOFFSETTO:-0800
TZNAME:PST
DTSTART:20251102T090000
END:STANDARD
END:VTIMEZONE
BEGIN:VEVENT
DTSTART;TZID=America/Vancouver:20241102T100000
DTEND;TZID=America/Vancouver:20241102T160000
DTSTAMP:20260424T132627
CREATED:20241025T021808Z
LAST-MODIFIED:20251016T191440Z
UID:10000005-1730541600-1730563200@avalonrosebotanicals.ca
SUMMARY:Craft Culture • Winter Warm-Up Market
DESCRIPTION:Get a jump on your holiday shopping at the Winter Warm-up Market at the RCA on November 2! With over 60 unique vendors\, this event offers a fantastic selection of handcrafted gifts\, artisanal goods\, and festive treats. Whether you’re looking for one-of-a-kind decorations\, thoughtful presents\, or seasonal delights\, you’re sure to find something special. Don’t miss this opportunity to avoid the holiday rush and find the perfect gifts for everyone on your list! \nAdmission by cash donation\, with partial proceeds benefiting a local charity (TBD!) \nLocation: Rotary Centre for the Arts\, Kelowna BC \nSat November 2               10:00am to 4:00pm
URL:https://avalonrosebotanicals.ca/event/winter-warm-up-market-at-rca-2024/
LOCATION:Rotary Centre for the Arts\, 421 Cawston Ave\, Kelowna\, BC\, V1Y 6Z1\, Canada
CATEGORIES:Artisan Market,Holiday Markets
ATTACH;FMTTYPE=image/jpeg:https://avalonrosebotanicals.ca/wp-content/uploads/Craft-Culture-@craftcultureshows-RCA-Winter-Warm-Up-2024-insta-1.jpg
ORGANIZER;CN="Craft Culture":MAILTO:info@craftculture.ca
END:VEVENT
BEGIN:VEVENT
DTSTART;TZID=America/Vancouver:20241115T150000
DTEND;TZID=America/Vancouver:20241117T150000
DTSTAMP:20260424T132627
CREATED:20241025T013211Z
LAST-MODIFIED:20251016T191440Z
UID:10000002-1731682800-1731855600@avalonrosebotanicals.ca
SUMMARY:It’s Christmas @ the Laurel
DESCRIPTION:Get ahead on your holiday shopping and support local artisans and small businesses at the Its Christmas @ The Laurel. 3 days of amazing creations and gifts for the whole family \nDiscover unique gifts\, specialty foods\, and one-of-a-kind creations from talented artisans right here in our community. From handcrafted goods to delicious treats\, there’s something for everyone on your list! \nJoin us in spreading holiday cheer and supporting our local economy. Mark your calendars and start your holiday shopping early at the \nFriday\, Nov 15\, 2024 – 3pm to 7pm \nSaturday\, Nov 16\, 2024 –  10am to 5pm \nSunday\, Nov 17\, 2024 – 10am to 3pm \n  \nFree Donation to the Food Bank is accepted at the door
URL:https://avalonrosebotanicals.ca/event/christmas-at-the-laurel-nov-15-17-2024/
LOCATION:The Laurel Packing House\, 1304 Ellis St\, Kelowna\, BC\, V1Y 1Z9\, Canada
CATEGORIES:Artisan Market,Holiday Markets
ATTACH;FMTTYPE=image/jpeg:https://avalonrosebotanicals.ca/wp-content/uploads/Christmas-@-The-Laurel-Nov-15-17-2024-1.jpg
ORGANIZER;CN="Artisan Showcase":MAILTO:artisansshowcase20@gmail.com
END:VEVENT
BEGIN:VEVENT
DTSTART;TZID=America/Vancouver:20241123T110000
DTEND;TZID=America/Vancouver:20241124T170000
DTSTAMP:20260424T132627
CREATED:20241025T020838Z
LAST-MODIFIED:20251016T191440Z
UID:10000004-1732359600-1732467600@avalonrosebotanicals.ca
SUMMARY:Under the Mistletoe at Summerhill Pyramid Winery
DESCRIPTION:Join us for a magical holiday shopping experience at the Summerhill Pyramid Winery Christmas Market. Set in our ballroom with stunning views of our vineyard\, this market promises an enchanting atmosphere\, perfect for finding that special gift.\n\nOur market boast an array of unique\, handmade or homemade gifts crafted by local artisans. Unlike your typical holiday market\, ours offers a relaxed setting where you can comfortably browse and shop while enjoying a glass of our finest wine.\nThis year\, we’re proud to introduce an exciting selection of vendors\, many of whom are joining us for the first time\, ensuring that even the most frequent market-goers will find something new and delightful. From artisan crafts and gourmet foods to unique art pieces and more\, our market is an ideal spot to find thoughtful gifts that truly stand out.\n\nWhether you’re continuing a tradition or starting a new one\, make the Summerhill Pyramid Winery Christmas Market part of your holiday celebration. Come for the unique gifts\, stay for the wine\, and enjoy the festive atmosphere that makes this market different and special from the rest in Kelowna.\n\nSaturday\, Nov 23rd\, 2024 – 11am-5pm\nSunday\, Nov 24th\, 2024 – 11am-4pm\nFree admission Wine by the glass available for purchaseFree parking on siteFamily-friendly with activities for all ages\n\nWe look forward to welcoming you to our Christmas Market. Celebrate the season with us at Summerhill\, where the spirit of Christmas comes alive in the most enchanting way!
URL:https://avalonrosebotanicals.ca/event/under-the-mistletoe-at-summerhill-pyramid-winery/
LOCATION:Summerhill Pyramid Winery\, 4870 Chute Lake Road\, Kelowna\, BC\, V1W 4M3\, Canada
CATEGORIES:Artisan Market,Holiday Markets
ATTACH;FMTTYPE=image/jpeg:https://avalonrosebotanicals.ca/wp-content/uploads/Summerhill-Pyramid-Winery-Christmas-Craft-Show-2024.jpg
END:VEVENT
END:VCALENDAR